BEGIN:VCALENDAR
VERSION:2.0
PRODID:-//Tukios.com/
BEGIN:VEVENT
UID:e088fe62-bcb3-41e6-a211-f3492e8f727a@www.wickhamfamilyfuneralhome.com
DTSTAMP:20260423T222258Z
DTSTART:20260428T220000Z
DTEND:20260429T000000Z
SUMMARY:Visitation
DESCRIPTION:
URL:https://www.wickhamfamilyfuneralhome.com/obituaries/vincent-tito-morales
LOCATION: 500 N Forest Ave  Chanute KS 66720
GEO:37.6865838;-95.4546432
END:VEVENT
END:VCALENDAR