BEGIN:VCALENDAR
VERSION:2.0
PRODID:-//Tukios.com/
BEGIN:VEVENT
UID:f8c14e30-877e-4a80-93d3-bf58bfdd4ed6@www.wickhamfamilyfuneralhome.com
DTSTAMP:20260420T101805Z
DTSTART:20260420T153000Z
DTEND:20260420T163000Z
SUMMARY:Funeral Service
DESCRIPTION:
URL:https://www.wickhamfamilyfuneralhome.com/obituaries/mary-cooper
LOCATION:Wickham Family Funeral Home 500 North Forest Avenue  Chanute KS 
	66720
GEO:37.6865838;-95.4546432
END:VEVENT
END:VCALENDAR