BEGIN:VCALENDAR
VERSION:2.0
PRODID:-//Tukios.com/
BEGIN:VEVENT
UID:8bc5ef84-8564-465a-a583-1057f2656b97@www.wickhamfamilyfuneralhome.com
DTSTAMP:20260420T102339Z
DTSTART:20260420T143000Z
DTEND:20260420T153000Z
SUMMARY:Visitation
DESCRIPTION:
URL:https://www.wickhamfamilyfuneralhome.com/obituaries/mary-cooper
LOCATION:Wickham Family Funeral Home 500 North Forest Avenue  Chanute KS 
	66720
GEO:37.6865838;-95.4546432
END:VEVENT
END:VCALENDAR