BEGIN:VCALENDAR
VERSION:2.0
PRODID:-//Tukios.com/
BEGIN:VEVENT
UID:dffaf1c8-0ab6-4a44-af1f-605046840663@www.wickhamfamilyfuneralhome.com
DTSTAMP:20260420T220017Z
DTSTART:20260423
SUMMARY:Burial
DESCRIPTION:
URL:https://www.wickhamfamilyfuneralhome.com/obituaries/jeffery-dale
LOCATION: 1002 East 14th Street  Chanute KS 66720
GEO:37.668661;-95.441019
END:VEVENT
END:VCALENDAR