BEGIN:VCALENDAR
VERSION:2.0
PRODID:-//Tukios.com/
BEGIN:VEVENT
UID:e4ce86fd-ccb4-4489-9270-7319578048c4@www.wickhamfamilyfuneralhome.com
DTSTAMP:20260420T220235Z
DTSTART:20260423T153000Z
DTEND:20260423T163000Z
SUMMARY:Celebration of Life
DESCRIPTION:
URL:https://www.wickhamfamilyfuneralhome.com/obituaries/jeffery-dale
LOCATION: 118 North Forest Avenue  Chanute KS 66720
GEO:37.6831243;-95.4550936
END:VEVENT
END:VCALENDAR