BEGIN:VCALENDAR
VERSION:2.0
PRODID:-//Tukios.com/
BEGIN:VEVENT
UID:e33c681e-65cb-4ce9-bf03-d515ec95bfdc@www.wickhamfamilyfuneralhome.com
DTSTAMP:20260420T215849Z
DTSTART:20260422T220000Z
DTEND:20260423T000000Z
SUMMARY:Visitation
DESCRIPTION:
URL:https://www.wickhamfamilyfuneralhome.com/obituaries/jeffery-dale
LOCATION: 500 N Forest Ave  Chanute KS 66720
GEO:37.6865838;-95.4546432
END:VEVENT
END:VCALENDAR