BEGIN:VCALENDAR
VERSION:2.0
PRODID:-//Tukios.com/
BEGIN:VEVENT
UID:e07461c3-abbb-401a-8274-6732d553b971@www.wickhamfamilyfuneralhome.com
DTSTAMP:20260423T213905Z
DTSTART:20260428T170000Z
DTEND:20260428T180000Z
SUMMARY:Burial
DESCRIPTION:
URL:https://www.wickhamfamilyfuneralhome.com/obituaries/corine-holt
LOCATION:  South Olive Street  Cherryvale KS 67335
GEO:37.2643965;-95.5370923
END:VEVENT
END:VCALENDAR