BEGIN:VCALENDAR
VERSION:2.0
PRODID:-//Tukios.com/
BEGIN:VEVENT
UID:52860b9d-d770-4450-9a5d-44be6bf4eaff@www.wickhamfamilyfuneralhome.com
DTSTAMP:20260423T214012Z
DTSTART:20260428T160000Z
DTEND:20260428T170000Z
SUMMARY:Celebration of Life
DESCRIPTION:
URL:https://www.wickhamfamilyfuneralhome.com/obituaries/corine-holt
LOCATION: 216 E 4th St  Cherryvale KS 67335
GEO:37.2675567;-95.5498746
END:VEVENT
END:VCALENDAR