BEGIN:VCALENDAR
VERSION:2.0
PRODID:-//Tukios.com/
BEGIN:VEVENT
UID:aa219e19-94a7-4b9c-8c96-d446d8b2002e@www.wickhamfamilyfuneralhome.com
DTSTAMP:20260423T213514Z
DTSTART:20260428T150000Z
DTEND:20260428T160000Z
SUMMARY:Visitation
DESCRIPTION:
URL:https://www.wickhamfamilyfuneralhome.com/obituaries/corine-holt
LOCATION: 216 E 4th St  Cherryvale KS 67335
GEO:37.2675567;-95.5498746
END:VEVENT
END:VCALENDAR