BEGIN:VCALENDAR
VERSION:2.0
PRODID:-//Tukios.com/
BEGIN:VEVENT
UID:ea2520d9-40e9-4a3c-b183-620c696d6af3@www.wickhamfamilyfuneralhome.com
DTSTAMP:20260422T203025Z
DTSTART:20260425T160000Z
DTEND:20260425T170000Z
SUMMARY:Funeral Service
DESCRIPTION:
URL:https://www.wickhamfamilyfuneralhome.com/obituaries/bonnie-white
LOCATION:Wickham Family Funeral Home 500 North Forest Avenue  Chanute KS 
	66720
GEO:37.6865838;-95.4546432
END:VEVENT
END:VCALENDAR