BEGIN:VCALENDAR
VERSION:2.0
PRODID:-//Tukios.com/
BEGIN:VEVENT
UID:d34f84b1-65c0-44b0-bb24-44fcdb6bb3f7@www.wickhamfamilyfuneralhome.com
DTSTAMP:20260422T202509Z
DTSTART:20260425T150000Z
DTEND:20260425T160000Z
SUMMARY:Visitation
DESCRIPTION:
URL:https://www.wickhamfamilyfuneralhome.com/obituaries/bonnie-white
LOCATION: 500 N Forest Ave  Chanute KS 66720
GEO:37.6865838;-95.4546432
END:VEVENT
END:VCALENDAR